BEGIN:VCALENDAR
VERSION:2.0
PRODID:-//Needham Democratic Town Committee - ECPv6.15.16//NONSGML v1.0//EN
CALSCALE:GREGORIAN
METHOD:PUBLISH
X-WR-CALNAME:Needham Democratic Town Committee
X-ORIGINAL-URL:https://needhamdems.org
X-WR-CALDESC:Events for Needham Democratic Town Committee
REFRESH-INTERVAL;VALUE=DURATION:PT1H
X-Robots-Tag:noindex
X-PUBLISHED-TTL:PT1H
BEGIN:VTIMEZONE
TZID:America/New_York
BEGIN:DAYLIGHT
TZOFFSETFROM:-0500
TZOFFSETTO:-0400
TZNAME:EDT
DTSTART:20240310T070000
END:DAYLIGHT
BEGIN:STANDARD
TZOFFSETFROM:-0400
TZOFFSETTO:-0500
TZNAME:EST
DTSTART:20241103T060000
END:STANDARD
BEGIN:DAYLIGHT
TZOFFSETFROM:-0500
TZOFFSETTO:-0400
TZNAME:EDT
DTSTART:20250309T070000
END:DAYLIGHT
BEGIN:STANDARD
TZOFFSETFROM:-0400
TZOFFSETTO:-0500
TZNAME:EST
DTSTART:20251102T060000
END:STANDARD
BEGIN:DAYLIGHT
TZOFFSETFROM:-0500
TZOFFSETTO:-0400
TZNAME:EDT
DTSTART:20260308T070000
END:DAYLIGHT
BEGIN:STANDARD
TZOFFSETFROM:-0400
TZOFFSETTO:-0500
TZNAME:EST
DTSTART:20261101T060000
END:STANDARD
END:VTIMEZONE
BEGIN:VEVENT
DTSTART;TZID=America/New_York:20250702T110000
DTEND;TZID=America/New_York:20250702T120000
DTSTAMP:20260423T064718
CREATED:20250620T065504Z
LAST-MODIFIED:20250620T065516Z
UID:2348-1751454000-1751457600@needhamdems.org
SUMMARY:Social Media Training on Blue Sky - Every Other Wednesday
DESCRIPTION:Learn how to use Blue Sky to build awareness of Field Team 6’s Voter Registration efforts all from the comfort of your own social media account! \nRegister HERE \nThe training will cover:\n– How to create your new Bluesky account\n– How to set up your Bluesky profile\n– Finding your first followers\n– Sharing Field Team 6 ready-made posts\n– Tips & Tricks for using and enjoying your Bluesky experience! \n  \n 
URL:https://needhamdems.org/event/social-media-training-on-blue-sky-every-other-wednesday-5/
LOCATION:Zoom
CATEGORIES:Education & Training Events
ATTACH;FMTTYPE=image/jpeg:https://needhamdems.org/wp-content/uploads/social-training.Bluesky-BEG_FB_BS_20250121024358367183.png.jpeg
END:VEVENT
BEGIN:VEVENT
DTSTART;TZID=America/New_York:20250708T160000
DTEND;TZID=America/New_York:20250708T170000
DTSTAMP:20260423T064718
CREATED:20250620T052528Z
LAST-MODIFIED:20250620T053728Z
UID:2330-1751990400-1751994000@needhamdems.org
SUMMARY:Open House with the United Vision Project (every 3rd Tuesday)
DESCRIPTION:United Vision Project is devoted to the long-term project of bridging and healing the deep divides that have brought us to this moment of systemic collapse \nLearn More and Register HERE
URL:https://needhamdems.org/event/open-house-with-the-united-vision-project/
LOCATION:Zoom
CATEGORIES:Education & Training Events
ATTACH;FMTTYPE=image/jpeg:https://needhamdems.org/wp-content/uploads/United-Vision-Porject-e1750397077616.jpg
END:VEVENT
BEGIN:VEVENT
DTSTART;TZID=America/New_York:20250709T183000
DTEND;TZID=America/New_York:20250709T193000
DTSTAMP:20260423T064718
CREATED:20250620T072439Z
LAST-MODIFIED:20250620T072454Z
UID:2364-1752085800-1752089400@needhamdems.org
SUMMARY:Indivisible's Truth Brigade - New Member Orientation
DESCRIPTION:Learn about Indivisible’s grassroots disinformation-countering project. \nRegister HERE \n 
URL:https://needhamdems.org/event/indivisibles-truth-brigade-new-member-orientation/
LOCATION:Zoom
CATEGORIES:Education & Training Events
ATTACH;FMTTYPE=image/jpeg:https://needhamdems.org/wp-content/uploads/3ceb7db0-07c8-47b4-92bc-1fcc0a87a0d6.jpg
END:VEVENT
BEGIN:VEVENT
DTSTART;TZID=America/New_York:20250710T190000
DTEND;TZID=America/New_York:20250710T203000
DTSTAMP:20260423T064718
CREATED:20250703T175520Z
LAST-MODIFIED:20250703T175520Z
UID:2376-1752174000-1752179400@needhamdems.org
SUMMARY:Michael Ansara: The Hard Work of Hope
DESCRIPTION:Michael Ansara has been on the front lines of major social movements—from the Civil Rights Movement to the campaign to end the Vietnam War and now to the fight for our democracy as a board member of Indivisible Massachusetts Coalition. \nRegister and learn more here.
URL:https://needhamdems.org/event/michael-ansara-the-hard-work-of-hope/
LOCATION:Old South Church\, 645 Boylston Street\, Boston\, MA\, 02116\, United States
CATEGORIES:Education & Training Events
ATTACH;FMTTYPE=image/png:https://needhamdems.org/wp-content/uploads/Screenshot-2025-07-03-at-1.54.51 PM.png
END:VEVENT
BEGIN:VEVENT
DTSTART;TZID=America/New_York:20250716T200000
DTEND;TZID=America/New_York:20250716T210000
DTSTAMP:20260423T064718
CREATED:20250620T045051Z
LAST-MODIFIED:20250620T045051Z
UID:2323-1752696000-1752699600@needhamdems.org
SUMMARY:One Million Rising: One Million Trained
DESCRIPTION:One Million Rising — a national effort to train one million people to help lead in this moment and gain the skills to lead others. This is how we build people power that can’t be ignored. You’re invited to join —and lead. \nLearn More & Register HERE
URL:https://needhamdems.org/event/one-million-rising-one-million-trained/
LOCATION:Zoom
CATEGORIES:Education & Training Events
ATTACH;FMTTYPE=image/jpeg:https://needhamdems.org/wp-content/uploads/One-Million-Rising-e1750394915516.jpg
END:VEVENT
BEGIN:VEVENT
DTSTART;TZID=America/New_York:20250722T200000
DTEND;TZID=America/New_York:20250722T210000
DTSTAMP:20260423T064718
CREATED:20250620T055511Z
LAST-MODIFIED:20250620T055511Z
UID:2341-1753214400-1753218000@needhamdems.org
SUMMARY:Fight Back With Friends! Monthly Call To Action (Every 4th Tuesday)
DESCRIPTION:Fight Back With Friends! is a national program designed to help you activate your community! Learn how to connect with friends\, family\, and neighbors who need YOUR voice to get civically engaged. \nLearn More & Register HERE
URL:https://needhamdems.org/event/fight-back-with-friends-monthly-call-to-action-every-4th-tuesday-2/
LOCATION:Zoom
CATEGORIES:Education & Training Events
ATTACH;FMTTYPE=image/jpeg:https://needhamdems.org/wp-content/uploads/Fight-Back-wFriends-e1750398864997.jpg
END:VEVENT
BEGIN:VEVENT
DTSTART;TZID=America/New_York:20250729T160000
DTEND;TZID=America/New_York:20250729T170000
DTSTAMP:20260423T064718
CREATED:20250620T053750Z
LAST-MODIFIED:20250620T053750Z
UID:2335-1753804800-1753808400@needhamdems.org
SUMMARY:Open House with the United Vision Project (every 3rd Tuesday)
DESCRIPTION:United Vision Project is devoted to the long-term project of bridging and healing the deep divides that have brought us to this moment of systemic collapse \nLearn More and Register HERE
URL:https://needhamdems.org/event/open-house-with-the-united-vision-project-every-3rd-tuesday/
LOCATION:Zoom
CATEGORIES:Education & Training Events
ATTACH;FMTTYPE=image/jpeg:https://needhamdems.org/wp-content/uploads/United-Vision-Porject-e1750397077616.jpg
END:VEVENT
BEGIN:VEVENT
DTSTART;TZID=America/New_York:20250730T200000
DTEND;TZID=America/New_York:20250730T210000
DTSTAMP:20260423T064718
CREATED:20250620T045125Z
LAST-MODIFIED:20250620T045125Z
UID:2326-1753905600-1753909200@needhamdems.org
SUMMARY:One Million Rising: One Million Trained
DESCRIPTION:One Million Rising — a national effort to train one million people to help lead in this moment and gain the skills to lead others. This is how we build people power that can’t be ignored. You’re invited to join —and lead. \nLearn More & Register HERE
URL:https://needhamdems.org/event/one-million-rising-one-million-trained-2/
LOCATION:Zoom
CATEGORIES:Education & Training Events
ATTACH;FMTTYPE=image/jpeg:https://needhamdems.org/wp-content/uploads/One-Million-Rising-e1750394915516.jpg
END:VEVENT
END:VCALENDAR