BEGIN:VCALENDAR
VERSION:2.0
PRODID:-//Needham Democratic Town Committee - ECPv6.15.16//NONSGML v1.0//EN
CALSCALE:GREGORIAN
METHOD:PUBLISH
X-WR-CALNAME:Needham Democratic Town Committee
X-ORIGINAL-URL:https://needhamdems.org
X-WR-CALDESC:Events for Needham Democratic Town Committee
REFRESH-INTERVAL;VALUE=DURATION:PT1H
X-Robots-Tag:noindex
X-PUBLISHED-TTL:PT1H
BEGIN:VTIMEZONE
TZID:America/New_York
BEGIN:DAYLIGHT
TZOFFSETFROM:-0500
TZOFFSETTO:-0400
TZNAME:EDT
DTSTART:20240310T070000
END:DAYLIGHT
BEGIN:STANDARD
TZOFFSETFROM:-0400
TZOFFSETTO:-0500
TZNAME:EST
DTSTART:20241103T060000
END:STANDARD
BEGIN:DAYLIGHT
TZOFFSETFROM:-0500
TZOFFSETTO:-0400
TZNAME:EDT
DTSTART:20250309T070000
END:DAYLIGHT
BEGIN:STANDARD
TZOFFSETFROM:-0400
TZOFFSETTO:-0500
TZNAME:EST
DTSTART:20251102T060000
END:STANDARD
BEGIN:DAYLIGHT
TZOFFSETFROM:-0500
TZOFFSETTO:-0400
TZNAME:EDT
DTSTART:20260308T070000
END:DAYLIGHT
BEGIN:STANDARD
TZOFFSETFROM:-0400
TZOFFSETTO:-0500
TZNAME:EST
DTSTART:20261101T060000
END:STANDARD
END:VTIMEZONE
BEGIN:VEVENT
DTSTART;TZID=America/New_York:20250604T110000
DTEND;TZID=America/New_York:20250604T120000
DTSTAMP:20260423T082022
CREATED:20250521T032446Z
LAST-MODIFIED:20250521T032446Z
UID:2161-1749034800-1749038400@needhamdems.org
SUMMARY:Social Media Training on Blue Sky - Every Other Wednesday
DESCRIPTION:Learn how to use Blue Sky to build awareness of Field Team 6’s Voter Registration efforts all from the comfort of your own social media account! \nRegister HERE \nThe training will cover:\n– How to create your new Bluesky account\n– How to set up your Bluesky profile\n– Finding your first followers\n– Sharing Field Team 6 ready-made posts\n– Tips & Tricks for using and enjoying your Bluesky experience! \n  \n 
URL:https://needhamdems.org/event/social-media-training-on-blue-sky-every-other-wednesday-3/
LOCATION:Zoom
CATEGORIES:Education & Training Events
ATTACH;FMTTYPE=image/jpeg:https://needhamdems.org/wp-content/uploads/social-training.Bluesky-BEG_FB_BS_20250121024358367183.png.jpeg
END:VEVENT
BEGIN:VEVENT
DTSTART;TZID=America/New_York:20250618T110000
DTEND;TZID=America/New_York:20250618T120000
DTSTAMP:20260423T082022
CREATED:20250521T032511Z
LAST-MODIFIED:20250521T032511Z
UID:2163-1750244400-1750248000@needhamdems.org
SUMMARY:Social Media Training on Blue Sky - Every Other Wednesday
DESCRIPTION:Learn how to use Blue Sky to build awareness of Field Team 6’s Voter Registration efforts all from the comfort of your own social media account! \nRegister HERE \nThe training will cover:\n– How to create your new Bluesky account\n– How to set up your Bluesky profile\n– Finding your first followers\n– Sharing Field Team 6 ready-made posts\n– Tips & Tricks for using and enjoying your Bluesky experience! \n  \n 
URL:https://needhamdems.org/event/social-media-training-on-blue-sky-every-other-wednesday-4/
LOCATION:Zoom
CATEGORIES:Education & Training Events
ATTACH;FMTTYPE=image/jpeg:https://needhamdems.org/wp-content/uploads/social-training.Bluesky-BEG_FB_BS_20250121024358367183.png.jpeg
END:VEVENT
BEGIN:VEVENT
DTSTART;TZID=America/New_York:20250624T200000
DTEND;TZID=America/New_York:20250624T210000
DTSTAMP:20260423T082022
CREATED:20250620T055449Z
LAST-MODIFIED:20250620T060148Z
UID:2338-1750795200-1750798800@needhamdems.org
SUMMARY:Fight Back With Friends! Monthly Call To Action (Every 4th Tuesday)
DESCRIPTION:Fight Back With Friends! is a national program designed to help you activate your community! Learn how to connect with friends\, family\, and neighbors who need YOUR voice to get civically engaged. \nLearn More & Register HERE
URL:https://needhamdems.org/event/fight-back-with-friends-monthly-call-to-action-every-4th-tuesday/
LOCATION:Zoom
CATEGORIES:Education & Training Events
ATTACH;FMTTYPE=image/jpeg:https://needhamdems.org/wp-content/uploads/Fight-Back-wFriends-e1750398864997.jpg
END:VEVENT
END:VCALENDAR