BEGIN:VCALENDAR
VERSION:2.0
PRODID:-//Needham Democratic Town Committee - ECPv6.15.16//NONSGML v1.0//EN
CALSCALE:GREGORIAN
METHOD:PUBLISH
X-ORIGINAL-URL:https://needhamdems.org
X-WR-CALDESC:Events for Needham Democratic Town Committee
REFRESH-INTERVAL;VALUE=DURATION:PT1H
X-Robots-Tag:noindex
X-PUBLISHED-TTL:PT1H
BEGIN:VTIMEZONE
TZID:America/New_York
BEGIN:DAYLIGHT
TZOFFSETFROM:-0500
TZOFFSETTO:-0400
TZNAME:EDT
DTSTART:20240310T070000
END:DAYLIGHT
BEGIN:STANDARD
TZOFFSETFROM:-0400
TZOFFSETTO:-0500
TZNAME:EST
DTSTART:20241103T060000
END:STANDARD
BEGIN:DAYLIGHT
TZOFFSETFROM:-0500
TZOFFSETTO:-0400
TZNAME:EDT
DTSTART:20250309T070000
END:DAYLIGHT
BEGIN:STANDARD
TZOFFSETFROM:-0400
TZOFFSETTO:-0500
TZNAME:EST
DTSTART:20251102T060000
END:STANDARD
BEGIN:DAYLIGHT
TZOFFSETFROM:-0500
TZOFFSETTO:-0400
TZNAME:EDT
DTSTART:20260308T070000
END:DAYLIGHT
BEGIN:STANDARD
TZOFFSETFROM:-0400
TZOFFSETTO:-0500
TZNAME:EST
DTSTART:20261101T060000
END:STANDARD
END:VTIMEZONE
BEGIN:VEVENT
DTSTART;TZID=America/New_York:20250507T110000
DTEND;TZID=America/New_York:20250507T120000
DTSTAMP:20260423T095309
CREATED:20250507T061356Z
LAST-MODIFIED:20250507T213317Z
UID:2001-1746615600-1746619200@needhamdems.org
SUMMARY:Social Media Training on Blue Sky - Every Other Wednesday
DESCRIPTION:Learn how to use Blue Sky to build awareness of Field Team 6’s Voter Registration efforts all from the comfort of your own social media account! \nRegister HERE \nThe training will cover:\n– How to create your new Bluesky account\n– How to set up your Bluesky profile\n– Finding your first followers\n– Sharing Field Team 6 ready-made posts\n– Tips & Tricks for using and enjoying your Bluesky experience! \n  \n 
URL:https://needhamdems.org/event/social-media-training-on-blue-sky-every-other-wednesday/
LOCATION:Zoom
CATEGORIES:Education & Training Events
END:VEVENT
BEGIN:VEVENT
DTSTART;TZID=America/New_York:20250514T183000
DTEND;TZID=America/New_York:20250514T193000
DTSTAMP:20260423T095309
CREATED:20250412T014128Z
LAST-MODIFIED:20250620T072351Z
UID:1347-1747247400-1747251000@needhamdems.org
SUMMARY:Indivisible's Truth Brigade - New Member Orientation
DESCRIPTION:Learn about Indivisible’s grassroots disinformation-countering project. \nRegister HERE \n 
URL:https://needhamdems.org/event/truth-brigade-new-member-orientation/
LOCATION:Zoom
CATEGORIES:Education & Training Events
ATTACH;FMTTYPE=image/jpeg:https://needhamdems.org/wp-content/uploads/3ceb7db0-07c8-47b4-92bc-1fcc0a87a0d6.jpg
END:VEVENT
BEGIN:VEVENT
DTSTART;TZID=America/New_York:20250521T110000
DTEND;TZID=America/New_York:20250521T120000
DTSTAMP:20260423T095309
CREATED:20250507T061448Z
LAST-MODIFIED:20250509T063248Z
UID:2003-1747825200-1747828800@needhamdems.org
SUMMARY:Social Media Training on Blue Sky - Every Other Wednesday
DESCRIPTION:Learn how to use Blue Sky to build awareness of Field Team 6’s Voter Registration efforts all from the comfort of your own social media account! \nRegister HERE \nThe training will cover:\n– How to create your new Bluesky account\n– How to set up your Bluesky profile\n– Finding your first followers\n– Sharing Field Team 6 ready-made posts\n– Tips & Tricks for using and enjoying your Bluesky experience! \n  \n 
URL:https://needhamdems.org/event/social-media-training-on-blue-sky-every-other-wednesday-2/
LOCATION:Zoom
CATEGORIES:Education & Training Events
ATTACH;FMTTYPE=image/jpeg:https://needhamdems.org/wp-content/uploads/social-training.Bluesky-BEG_FB_BS_20250121024358367183.png.jpeg
END:VEVENT
END:VCALENDAR