BEGIN:VCALENDAR
VERSION:2.0
PRODID:-//Needham Democratic Town Committee - ECPv6.15.16//NONSGML v1.0//EN
CALSCALE:GREGORIAN
METHOD:PUBLISH
X-WR-CALNAME:Needham Democratic Town Committee
X-ORIGINAL-URL:https://needhamdems.org
X-WR-CALDESC:Events for Needham Democratic Town Committee
REFRESH-INTERVAL;VALUE=DURATION:PT1H
X-Robots-Tag:noindex
X-PUBLISHED-TTL:PT1H
BEGIN:VTIMEZONE
TZID:America/New_York
BEGIN:DAYLIGHT
TZOFFSETFROM:-0500
TZOFFSETTO:-0400
TZNAME:EDT
DTSTART:20240310T070000
END:DAYLIGHT
BEGIN:STANDARD
TZOFFSETFROM:-0400
TZOFFSETTO:-0500
TZNAME:EST
DTSTART:20241103T060000
END:STANDARD
BEGIN:DAYLIGHT
TZOFFSETFROM:-0500
TZOFFSETTO:-0400
TZNAME:EDT
DTSTART:20250309T070000
END:DAYLIGHT
BEGIN:STANDARD
TZOFFSETFROM:-0400
TZOFFSETTO:-0500
TZNAME:EST
DTSTART:20251102T060000
END:STANDARD
BEGIN:DAYLIGHT
TZOFFSETFROM:-0500
TZOFFSETTO:-0400
TZNAME:EDT
DTSTART:20260308T070000
END:DAYLIGHT
BEGIN:STANDARD
TZOFFSETFROM:-0400
TZOFFSETTO:-0500
TZNAME:EST
DTSTART:20261101T060000
END:STANDARD
END:VTIMEZONE
BEGIN:VEVENT
DTSTART;TZID=America/New_York:20250415T170000
DTEND;TZID=America/New_York:20250415T190000
DTSTAMP:20260419T231211
CREATED:20250412T203439Z
LAST-MODIFIED:20250412T205001Z
UID:1483-1744736400-1744743600@needhamdems.org
SUMMARY:Virtual Phone Banking - Every Tuesday
DESCRIPTION:Join Common Cause for an important phone bank as we mobilize voters to take action against the dangerous SAVE Act and advocate for the John Lewis Voting Rights Act. The SAVE Act threatens to make it harder for millions of Americans—especially students\, seniors\, and veterans—to cast their ballots. We need your help to ensure voters across the country call their representatives and demand they protect the freedom to vote. \nNo prior experience is necessary—our team will provide full training at the start of each shift! \nWhat to Expect:\n\nA step-by-step walkthrough of our Phone Dialer tools.\nExpert tips on effective communication with voters.\nOpportunities to ask questions and connect with other like-minded volunteers.\n\nSign up today and take the first step toward empowering voters and protecting democracy in 2025! \nRegister HERE \n 
URL:https://needhamdems.org/event/virtual-phone-banking-every-tuesday/
LOCATION:Zoom
CATEGORIES:Activities - Text, Call, Postcard
END:VEVENT
BEGIN:VEVENT
DTSTART;TZID=America/New_York:20250416T140000
DTEND;TZID=America/New_York:20250416T160000
DTSTAMP:20260419T231211
CREATED:20250412T201959Z
LAST-MODIFIED:20250413T014829Z
UID:1477-1744812000-1744819200@needhamdems.org
SUMMARY:Virtual Postcarding Parties - Every Wednesday
DESCRIPTION:Join Field Team 6 and our wonderful partner The Union to write postcards and talk politics with us at our weekly Postcarding Parties! Join us anytime! \nNEW TO POSTCARDING?? We offer a breakout room where we will teach you everything you need to know to write postcards of every kind. There is no need to buy anything beforehand. We will help you decide what materials are right for you. \nVETERAN POSTCARDER?? Feel free to bring whatever you are currently working on. \nRegister HERE \n 
URL:https://needhamdems.org/event/virtual-post-carding-parties/
LOCATION:Zoom
CATEGORIES:Activities - Text, Call, Postcard
END:VEVENT
BEGIN:VEVENT
DTSTART;TZID=America/New_York:20250416T200000
DTEND;TZID=America/New_York:20250416T210000
DTSTAMP:20260419T231211
CREATED:20250413T014744Z
LAST-MODIFIED:20250414T014410Z
UID:1491-1744833600-1744837200@needhamdems.org
SUMMARY:Postcarding: New Postcard Programs!
DESCRIPTION:Please join us to learn about our upcoming Postcards to Swing States programs for 2025 and 2026. \nWe’ll begin sign-ups on May 1 for postcards for November 2025 elections in Virginia\, Pennsylvania and New Jersey. \nIn addition to our past get-out-the-vote postcards\, we’ll send postcards to share important news headlines with potential voters in Virginia to make sure they hear about the harmful policies of Trump\, Musk and Republicans. \nWe’ll also talk about our plans for the 2026 midterms and our latest thoughts (based on data) on how postcards fit into the broader Democratic strategy to regain power in 2026 and 2028. \nRegister HERE \n 
URL:https://needhamdems.org/event/postcarding-new-postcard-programs/
LOCATION:Zoom
CATEGORIES:Activities - Text, Call, Postcard
ATTACH;FMTTYPE=image/jpeg:https://needhamdems.org/wp-content/uploads/Postcards-to-Swing-States-e1746671158433.jpg
END:VEVENT
BEGIN:VEVENT
DTSTART;TZID=America/New_York:20250420T163000
DTEND;TZID=America/New_York:20250420T180000
DTSTAMP:20260419T231211
CREATED:20250412T204425Z
LAST-MODIFIED:20250418T120904Z
UID:1486-1745166600-1745172000@needhamdems.org
SUMMARY:Sunday Tea & Virtual Democratic Phonebank for US House Special Elections - Weekly
DESCRIPTION:Phonebank from home to recruit volunteers and to turn out special election voters for Democrats in AZ-7\, TX-18\, and State Legislatures nationwide: Democrats are only a few seats away from a US House majority. \nWe will start with a brief Zoom meeting for training purposes and then phonebank. This event is co-hosted by Somerville & Medford Democrats\, but is open to all. Let’s take the fight to Republicans in every State and in every House district! \nRegister HERE \n 
URL:https://needhamdems.org/event/sunday-tea-virtual-democratic-phonebank-for-us-house-special-elections-weekly/
LOCATION:Zoom
CATEGORIES:Activities - Text, Call, Postcard
END:VEVENT
BEGIN:VEVENT
DTSTART;TZID=America/New_York:20250423T140000
DTEND;TZID=America/New_York:20250423T160000
DTSTAMP:20260419T231211
CREATED:20250423T010023Z
LAST-MODIFIED:20250423T010023Z
UID:1684-1745416800-1745424000@needhamdems.org
SUMMARY:Virtual Postcarding Parties - Every Wednesday
DESCRIPTION:Join Field Team 6 and our wonderful partner The Union to write postcards and talk politics with us at our weekly Postcarding Parties! Join us anytime! \nNEW TO POSTCARDING?? We offer a breakout room where we will teach you everything you need to know to write postcards of every kind. There is no need to buy anything beforehand. We will help you decide what materials are right for you. \nVETERAN POSTCARDER?? Feel free to bring whatever you are currently working on. \nRegister HERE \n 
URL:https://needhamdems.org/event/virtual-postcarding-parties-every-wednesday/
LOCATION:Zoom
CATEGORIES:Activities - Text, Call, Postcard
END:VEVENT
BEGIN:VEVENT
DTSTART;TZID=America/New_York:20250427T163000
DTEND;TZID=America/New_York:20250427T180000
DTSTAMP:20260419T231211
CREATED:20250423T005846Z
LAST-MODIFIED:20250507T050124Z
UID:1682-1745771400-1745776800@needhamdems.org
SUMMARY:Sunday Tea & Virtual Phonebank for US House Special Elections - Weekly
DESCRIPTION:Phone-bank from home to recruit volunteers and to turn out special election voters for Democrats in AZ-7\, TX-18\, and State Legislatures nationwide: Democrats are only a few seats away from a US House majority. \nRegister HERE \n 
URL:https://needhamdems.org/event/sunday-tea-virtual-democratic-phonebank-for-us-house-special-elections-weekly-2/
LOCATION:Zoom
CATEGORIES:Activities - Text, Call, Postcard
END:VEVENT
END:VCALENDAR